BEGIN:VCALENDAR
VERSION:2.0
PRODID:http://www.infomax-online.de/imxeventmanager/
METHOD:PUBLISH
BEGIN:VTIMEZONE
TZID:Europe/Berlin
TZURL:http://tzurl.org/zoneinfo-outlook/Europe/Berlin
X-LIC-LOCATION:Europe/Berlin
END:VTIMEZONE
BEGIN:VEVENT
UID:69e9bf0d6b55b
LOCATION:Kocheler Str. 16 a , 82444 Schlehdorf
SUMMARY:Weinfest im Feuerwehrhaus Schlehdorf
DESCRIPTION:Weinfest mit Musik im Feuerwehrhaus ab 18.00 Uhr mit Südtiroler Spezialitäten\, Brotzeit\, Wein. 

Barbetrieb

Auf Ihren Besuch freut sich die Freiwillige Feuerwehr Schlehdorf.
URL;VALUE=URI:https://www.tourismus.schlehdorf.de/e-weinfest-im-feuerwehrhaus-schlehdorf
CLASS:PUBLIC
DTSTAMP:20260423T084117
DTSTART:20261010T180000
DTEND:20261011T000000
END:VEVENT
END:VCALENDAR